BEGIN:VCALENDAR
VERSION:2.0
PRODID:-//The Tangled Wood - ECPv6.15.20//NONSGML v1.0//EN
CALSCALE:GREGORIAN
METHOD:PUBLISH
X-WR-CALNAME:The Tangled Wood
X-ORIGINAL-URL:https://thetangledwood.com
X-WR-CALDESC:Events for The Tangled Wood
REFRESH-INTERVAL;VALUE=DURATION:PT1H
X-Robots-Tag:noindex
X-PUBLISHED-TTL:PT1H
BEGIN:VTIMEZONE
TZID:America/Chicago
BEGIN:DAYLIGHT
TZOFFSETFROM:-0600
TZOFFSETTO:-0500
TZNAME:CDT
DTSTART:20250309T080000
END:DAYLIGHT
BEGIN:STANDARD
TZOFFSETFROM:-0500
TZOFFSETTO:-0600
TZNAME:CST
DTSTART:20251102T070000
END:STANDARD
BEGIN:DAYLIGHT
TZOFFSETFROM:-0600
TZOFFSETTO:-0500
TZNAME:CDT
DTSTART:20260308T080000
END:DAYLIGHT
BEGIN:STANDARD
TZOFFSETFROM:-0500
TZOFFSETTO:-0600
TZNAME:CST
DTSTART:20261101T070000
END:STANDARD
BEGIN:DAYLIGHT
TZOFFSETFROM:-0600
TZOFFSETTO:-0500
TZNAME:CDT
DTSTART:20270314T080000
END:DAYLIGHT
BEGIN:STANDARD
TZOFFSETFROM:-0500
TZOFFSETTO:-0600
TZNAME:CST
DTSTART:20271107T070000
END:STANDARD
END:VTIMEZONE
BEGIN:VEVENT
DTSTART;TZID=America/Chicago:20260520T190000
DTEND;TZID=America/Chicago:20260520T210000
DTSTAMP:20260422T185602
CREATED:20260421T185637Z
LAST-MODIFIED:20260421T185638Z
UID:10858-1779303600-1779310800@thetangledwood.com
SUMMARY:90's Music Bingo
DESCRIPTION:Do you  90’s music? \n\n\n\nPop.Hip-Hop.Rock.Country.Emo. \n\n\n\n90’s Music BingoWednesday\, May 20th @ 7pmThe Tangled Wood (Bettendorf\, IA) \n\n\n\nFREE To PlayWin FREE drinks/prizes!ALL AGES
URL:https://thetangledwood.com/event/90s-music-bingo-2/
LOCATION:The Tangled Wood\, 3636 Tanglewood Rd\, Bettendorf\, IA\, 52722\, United States
CATEGORIES:Music Bingo
ATTACH;FMTTYPE=image/jpeg:https://thetangledwood.com/wp-content/uploads/2026/04/674932648_1813792446342337_855564890565129365_n.jpg
END:VEVENT
END:VCALENDAR