BEGIN:VCALENDAR
VERSION:2.0
PRODID:-//The Tangled Wood - ECPv6.15.20//NONSGML v1.0//EN
CALSCALE:GREGORIAN
METHOD:PUBLISH
X-ORIGINAL-URL:https://thetangledwood.com
X-WR-CALDESC:Events for The Tangled Wood
REFRESH-INTERVAL;VALUE=DURATION:PT1H
X-Robots-Tag:noindex
X-PUBLISHED-TTL:PT1H
BEGIN:VTIMEZONE
TZID:UTC
BEGIN:STANDARD
TZOFFSETFROM:+0000
TZOFFSETTO:+0000
TZNAME:UTC
DTSTART:20200101T000000
END:STANDARD
END:VTIMEZONE
BEGIN:VEVENT
DTSTART;TZID=UTC:20210922T190000
DTEND;TZID=UTC:20210922T210000
DTSTAMP:20260421T002248
CREATED:20210825T213050Z
LAST-MODIFIED:20210916T212843Z
UID:3890-1632337200-1632344400@thetangledwood.com
SUMMARY:Hot Country Nights Music Bingo
DESCRIPTION:Hot Country Nights Music BingoWednesday\, September 22nd @ 7pmThe Tangled Wood (Bettendorf\, IA)FREE To PlayWin FREE drinks!ALL AGESPlay inside -OR- outside on the patio!
URL:https://thetangledwood.com/event/hot-country-nights-music-bingo/
LOCATION:The Tangled Wood\, 3636 Tanglewood Rd\, Bettendorf\, IA\, 52722\, United States
CATEGORIES:Music Bingo
ATTACH;FMTTYPE=image/jpeg:https://thetangledwood.com/wp-content/uploads/2021/08/hot-country-bingo.jpg
END:VEVENT
END:VCALENDAR