BEGIN:VCALENDAR
VERSION:2.0
PRODID:-//The Tangled Wood - ECPv6.15.20//NONSGML v1.0//EN
CALSCALE:GREGORIAN
METHOD:PUBLISH
X-ORIGINAL-URL:https://thetangledwood.com
X-WR-CALDESC:Events for The Tangled Wood
REFRESH-INTERVAL;VALUE=DURATION:PT1H
X-Robots-Tag:noindex
X-PUBLISHED-TTL:PT1H
BEGIN:VTIMEZONE
TZID:America/Chicago
BEGIN:DAYLIGHT
TZOFFSETFROM:-0600
TZOFFSETTO:-0500
TZNAME:CDT
DTSTART:20240310T080000
END:DAYLIGHT
BEGIN:STANDARD
TZOFFSETFROM:-0500
TZOFFSETTO:-0600
TZNAME:CST
DTSTART:20241103T070000
END:STANDARD
BEGIN:DAYLIGHT
TZOFFSETFROM:-0600
TZOFFSETTO:-0500
TZNAME:CDT
DTSTART:20250309T080000
END:DAYLIGHT
BEGIN:STANDARD
TZOFFSETFROM:-0500
TZOFFSETTO:-0600
TZNAME:CST
DTSTART:20251102T070000
END:STANDARD
BEGIN:DAYLIGHT
TZOFFSETFROM:-0600
TZOFFSETTO:-0500
TZNAME:CDT
DTSTART:20260308T080000
END:DAYLIGHT
BEGIN:STANDARD
TZOFFSETFROM:-0500
TZOFFSETTO:-0600
TZNAME:CST
DTSTART:20261101T070000
END:STANDARD
END:VTIMEZONE
BEGIN:VEVENT
DTSTART;TZID=America/Chicago:20251003T180000
DTEND;TZID=America/Chicago:20251003T210000
DTSTAMP:20260422T184720
CREATED:20250401T150000Z
LAST-MODIFIED:20250916T150626Z
UID:7914-1759514400-1759525200@thetangledwood.com
SUMMARY:Rude Punch
DESCRIPTION:The plan for this weekend is to CHILL at the Tangled Wood with Rude Punch this Friday night. Rude Punch is an Alternative/Reggae band from Davenport\, IA. Combining reggae\, rock\, punk\, and Pop to create original\, positive\, high-energy music. Grab your lawn chair and order a beer!
URL:https://thetangledwood.com/event/rude-punch-4/
LOCATION:The Tangled Wood\, 3636 Tanglewood Rd\, Bettendorf\, IA\, 52722\, United States
CATEGORIES:Live Music
ATTACH;FMTTYPE=image/jpeg:https://thetangledwood.com/wp-content/uploads/2025/04/100325-Rude-Punch-post6.jpg
END:VEVENT
BEGIN:VEVENT
DTSTART;TZID=America/Chicago:20251004T180000
DTEND;TZID=America/Chicago:20251004T210000
DTSTAMP:20260422T184720
CREATED:20250401T150000Z
LAST-MODIFIED:20250916T153425Z
UID:7970-1759600800-1759611600@thetangledwood.com
SUMMARY:Plastic Relations
DESCRIPTION:We have a treat for you this weekend. Plastic Relations is back! This cover band from Iowa City\, IA\, with a repertoire of more than 400 top 40 songs. They will be performing a tribute to David Bowie as well as hits from all your favorite movie soundtracks of the 80’s like Footloose\, Top Gun\, Purple Rain\, Fast Times at Ridgemont High and more!
URL:https://thetangledwood.com/event/plastic-relations/
LOCATION:The Tangled Wood\, 3636 Tanglewood Rd\, Bettendorf\, IA\, 52722\, United States
CATEGORIES:Live Music
ATTACH;FMTTYPE=image/jpeg:https://thetangledwood.com/wp-content/uploads/2025/04/100425-Plastic-Relations-post6.jpg
END:VEVENT
BEGIN:VEVENT
DTSTART;TZID=America/Chicago:20251010T190000
DTEND;TZID=America/Chicago:20251010T220000
DTSTAMP:20260422T184720
CREATED:20251006T185603Z
LAST-MODIFIED:20251006T185635Z
UID:8405-1760122800-1760133600@thetangledwood.com
SUMMARY:Semi-Charmed
DESCRIPTION:One more chance to rock out outside. Go ahead and pick your favorite decade. 80’s or 90’s. We have them both all weekend long at the Tangled Wood. Start off with Semi-Charmed\, rocking your faves from the 90’s and beyond. Playing a wide range of hits from Blink 182\, Matchbox 20\, Fall Out Boy\, Goo Goo Dolls\, Green Day\, No Doubt\, and many more!
URL:https://thetangledwood.com/event/semi-charmed-3/
LOCATION:IA
CATEGORIES:Live Music
ATTACH;FMTTYPE=image/jpeg:https://thetangledwood.com/wp-content/uploads/2025/10/101025-Semi-Charmed-post.jpg
END:VEVENT
END:VCALENDAR