BEGIN:VCALENDAR
VERSION:2.0
PRODID:-//The Tangled Wood - ECPv6.15.20//NONSGML v1.0//EN
CALSCALE:GREGORIAN
METHOD:PUBLISH
X-ORIGINAL-URL:https://thetangledwood.com
X-WR-CALDESC:Events for The Tangled Wood
REFRESH-INTERVAL;VALUE=DURATION:PT1H
X-Robots-Tag:noindex
X-PUBLISHED-TTL:PT1H
BEGIN:VTIMEZONE
TZID:America/Chicago
BEGIN:DAYLIGHT
TZOFFSETFROM:-0600
TZOFFSETTO:-0500
TZNAME:CDT
DTSTART:20230312T080000
END:DAYLIGHT
BEGIN:STANDARD
TZOFFSETFROM:-0500
TZOFFSETTO:-0600
TZNAME:CST
DTSTART:20231105T070000
END:STANDARD
BEGIN:DAYLIGHT
TZOFFSETFROM:-0600
TZOFFSETTO:-0500
TZNAME:CDT
DTSTART:20240310T080000
END:DAYLIGHT
BEGIN:STANDARD
TZOFFSETFROM:-0500
TZOFFSETTO:-0600
TZNAME:CST
DTSTART:20241103T070000
END:STANDARD
BEGIN:DAYLIGHT
TZOFFSETFROM:-0600
TZOFFSETTO:-0500
TZNAME:CDT
DTSTART:20250309T080000
END:DAYLIGHT
BEGIN:STANDARD
TZOFFSETFROM:-0500
TZOFFSETTO:-0600
TZNAME:CST
DTSTART:20251102T070000
END:STANDARD
END:VTIMEZONE
BEGIN:VEVENT
DTSTART;TZID=America/Chicago:20241208T130000
DTEND;TZID=America/Chicago:20241208T150000
DTSTAMP:20260423T120942
CREATED:20241125T165650Z
LAST-MODIFIED:20241126T150650Z
UID:7698-1733662800-1733670000@thetangledwood.com
SUMMARY:Santa's Coming to The Tangled Wood!
DESCRIPTION:Santa’s coming to The Tangled Wood on Sunday\, December 8th! We’ll have cookies for kids to decorate while they visit with Santa\, sip on hot chocolate & watch “The Grinch”. We’ll see you there!!!
URL:https://thetangledwood.com/event/santas-coming-to-the-tangled-wood/
CATEGORIES:Kids
ATTACH;FMTTYPE=image/jpeg:https://thetangledwood.com/wp-content/uploads/2024/11/Santa_Post.jpg
END:VEVENT
END:VCALENDAR