BEGIN:VCALENDAR
VERSION:2.0
PRODID:-//The Tangled Wood - ECPv6.15.20//NONSGML v1.0//EN
CALSCALE:GREGORIAN
METHOD:PUBLISH
X-ORIGINAL-URL:https://thetangledwood.com
X-WR-CALDESC:Events for The Tangled Wood
REFRESH-INTERVAL;VALUE=DURATION:PT1H
X-Robots-Tag:noindex
X-PUBLISHED-TTL:PT1H
BEGIN:VTIMEZONE
TZID:America/Chicago
BEGIN:DAYLIGHT
TZOFFSETFROM:-0600
TZOFFSETTO:-0500
TZNAME:CDT
DTSTART:20220313T080000
END:DAYLIGHT
BEGIN:STANDARD
TZOFFSETFROM:-0500
TZOFFSETTO:-0600
TZNAME:CST
DTSTART:20221106T070000
END:STANDARD
BEGIN:DAYLIGHT
TZOFFSETFROM:-0600
TZOFFSETTO:-0500
TZNAME:CDT
DTSTART:20230312T080000
END:DAYLIGHT
BEGIN:STANDARD
TZOFFSETFROM:-0500
TZOFFSETTO:-0600
TZNAME:CST
DTSTART:20231105T070000
END:STANDARD
BEGIN:DAYLIGHT
TZOFFSETFROM:-0600
TZOFFSETTO:-0500
TZNAME:CDT
DTSTART:20240310T080000
END:DAYLIGHT
BEGIN:STANDARD
TZOFFSETFROM:-0500
TZOFFSETTO:-0600
TZNAME:CST
DTSTART:20241103T070000
END:STANDARD
END:VTIMEZONE
BEGIN:VEVENT
DTSTART;TZID=America/Chicago:20230409T100000
DTEND;TZID=America/Chicago:20230409T150000
DTSTAMP:20260424T202713
CREATED:20230322T181042Z
LAST-MODIFIED:20230322T181106Z
UID:6774-1681034400-1681052400@thetangledwood.com
SUMMARY:Easter Brunch
DESCRIPTION:We’ve got the perfect Easter Brunch on Sunday\, April 9th!!!Check out the details below and call ahead for reservations today! 563.949.1000Brunch is served 10am – 3pmAdults: $26 | Kids 12 & Under: $12Jordan Danielsen is performing from 11am – 2pmGet your cameras ready!!! The Easter Bunny arrives at 3pm.Kids Easter Egg Hunt begins at 3pm (parent must be present) \n\n\n\nEASTER BRUNCH MENU: \n\n\n\nBreakfast Pastries and Breads:Cinnamon RollsPecan RollsAssorted Mini Muffins – (Blueberry\, Lemon Poppy Seed\, Mandarin Orange)Assorted Fruit Pastries and DanishesCroissantsAssorted SconesDoughnut HolesAssorted Desserts/Sweets \n\n\n\nSalad Station:Fresh Fruit SaladPasta SaladBruschetta SaladSouthwestern Quinoa Salad \n\n\n\nVegetables/Sides and Breakfast:Grilled Vegetables – (Zucchini\, Squash\, Peppers\, Onions\, Tomatoes\, Portobello Mushrooms\, Jalapenos\, Eggplant\, Carrots)Steamed BroccoliGarlic Green BeansMashed Potatoes and GravyCheesy Hash Brown CasseroleBiscuits & GravyScrambled EggsCheesy Scrambled EggsBaconSausage Patties \n\n\n\nEgg\, Omelet and Benedict Station:Made to Order OmeletsEggs Cooked to OrderBasted Egg Benedict \n\n\n\nWaffle Station:House Made Waffles with Assorted Toppings –(Blueberry\, Strawberry\, Cherry\, Whipped Cream\, Syrup\, and Butter)(Sprinkles\, Nuts\, Peanut Butter Sauce and Chocolate Sauce\, Chocolate Chips\, Gummy Bears\, Fresh Blueberries\, Strawberries & Bananas) \n\n\n\nCarving and Fish Station:Carved Ham with Sweet Fruit ChutneyCarved Roasted Turkey with Rosemary/Thyme GlazeSmoked Salmon – (Diced Onion\, Eggs\, Tomatoes\, Capers\, Herb Cream Cheese)
URL:https://thetangledwood.com/event/easter-brunch/
CATEGORIES:Kids
ATTACH;FMTTYPE=image/jpeg:https://thetangledwood.com/wp-content/uploads/2023/03/EasterBrunch_Post.jpg
END:VEVENT
END:VCALENDAR