BEGIN:VCALENDAR
VERSION:2.0
PRODID:-//The Tangled Wood - ECPv6.15.20//NONSGML v1.0//EN
CALSCALE:GREGORIAN
METHOD:PUBLISH
X-WR-CALNAME:The Tangled Wood
X-ORIGINAL-URL:https://thetangledwood.com
X-WR-CALDESC:Events for The Tangled Wood
REFRESH-INTERVAL;VALUE=DURATION:PT1H
X-Robots-Tag:noindex
X-PUBLISHED-TTL:PT1H
BEGIN:VTIMEZONE
TZID:America/Chicago
BEGIN:DAYLIGHT
TZOFFSETFROM:-0600
TZOFFSETTO:-0500
TZNAME:CDT
DTSTART:20210314T080000
END:DAYLIGHT
BEGIN:STANDARD
TZOFFSETFROM:-0500
TZOFFSETTO:-0600
TZNAME:CST
DTSTART:20211107T070000
END:STANDARD
BEGIN:DAYLIGHT
TZOFFSETFROM:-0600
TZOFFSETTO:-0500
TZNAME:CDT
DTSTART:20220313T080000
END:DAYLIGHT
BEGIN:STANDARD
TZOFFSETFROM:-0500
TZOFFSETTO:-0600
TZNAME:CST
DTSTART:20221106T070000
END:STANDARD
BEGIN:DAYLIGHT
TZOFFSETFROM:-0600
TZOFFSETTO:-0500
TZNAME:CDT
DTSTART:20230312T080000
END:DAYLIGHT
BEGIN:STANDARD
TZOFFSETFROM:-0500
TZOFFSETTO:-0600
TZNAME:CST
DTSTART:20231105T070000
END:STANDARD
END:VTIMEZONE
BEGIN:VEVENT
DTSTART;TZID=America/Chicago:20221211T130000
DTEND;TZID=America/Chicago:20221211T150000
DTSTAMP:20260425T062849
CREATED:20221206T155344Z
LAST-MODIFIED:20221206T155346Z
UID:6497-1670763600-1670770800@thetangledwood.com
SUMMARY:Santa & "The Grinch"
DESCRIPTION:Santa’s visiting The Tangled Wood!!! On Sunday\, December 11th at 1pm we’ll be playing the movie “The Grinch” in our banquet room while you visit with Santa\, decorate cookies and sip on hot chocolate. See you soon!!!
URL:https://thetangledwood.com/event/santa-the-grinch/
CATEGORIES:Kids
ATTACH;FMTTYPE=image/jpeg:https://thetangledwood.com/wp-content/uploads/2022/12/sc.jpg
END:VEVENT
END:VCALENDAR